BEGIN:VCALENDAR
VERSION:2.0
PRODID:-//Haus der Elemente - ECPv6.15.17.1//NONSGML v1.0//EN
CALSCALE:GREGORIAN
METHOD:PUBLISH
X-WR-CALNAME:Haus der Elemente
X-ORIGINAL-URL:https://www.hausderelemente.at
X-WR-CALDESC:Veranstaltungen für Haus der Elemente
REFRESH-INTERVAL;VALUE=DURATION:PT1H
X-Robots-Tag:noindex
X-PUBLISHED-TTL:PT1H
BEGIN:VTIMEZONE
TZID:Europe/Helsinki
BEGIN:DAYLIGHT
TZOFFSETFROM:+0200
TZOFFSETTO:+0300
TZNAME:EEST
DTSTART:20250330T010000
END:DAYLIGHT
BEGIN:STANDARD
TZOFFSETFROM:+0300
TZOFFSETTO:+0200
TZNAME:EET
DTSTART:20251026T010000
END:STANDARD
BEGIN:DAYLIGHT
TZOFFSETFROM:+0200
TZOFFSETTO:+0300
TZNAME:EEST
DTSTART:20260329T010000
END:DAYLIGHT
BEGIN:STANDARD
TZOFFSETFROM:+0300
TZOFFSETTO:+0200
TZNAME:EET
DTSTART:20261025T010000
END:STANDARD
BEGIN:DAYLIGHT
TZOFFSETFROM:+0200
TZOFFSETTO:+0300
TZNAME:EEST
DTSTART:20270328T010000
END:DAYLIGHT
BEGIN:STANDARD
TZOFFSETFROM:+0300
TZOFFSETTO:+0200
TZNAME:EET
DTSTART:20271031T010000
END:STANDARD
END:VTIMEZONE
BEGIN:VEVENT
DTSTART;TZID=Europe/Helsinki:20260421T093000
DTEND;TZID=Europe/Helsinki:20260421T103000
DTSTAMP:20260421T120727
CREATED:20251208T184901Z
LAST-MODIFIED:20260220T105711Z
UID:10001331-1776763800-1776767400@www.hausderelemente.at
SUMMARY:Sanfter Morgen.
DESCRIPTION:Öffnen. Bewegen. Atmen. \nEinstieg jederzeit möglich. \nhier anmelden
URL:https://www.hausderelemente.at/event/sanfter-morgen/2026-04-21/
LOCATION:Haus der Elemente
CATEGORIES:Kurse
END:VEVENT
BEGIN:VEVENT
DTSTART;TZID=Europe/Helsinki:20260421T183000
DTEND;TZID=Europe/Helsinki:20260421T193000
DTSTAMP:20260421T120727
CREATED:20260119T123740Z
LAST-MODIFIED:20260119T123740Z
UID:10001724-1776796200-1776799800@www.hausderelemente.at
SUMMARY:Quantum Embodyment - Tanz.Chakren.Faszien
DESCRIPTION:Diese Einheit steht im Zeichen von Quantum Embodyment: Wir binden Chakrenarbeit\, Faszienbewusstsein und Tanz zu einer lebendigen\, tief wirksamen Praxis. \n\ngeschmeidiges\, kraftvolles tänzerisches Workout\nNervensystemregulierend & stärkend\ntief im Körper verankert – nicht im Kopf\n\nStarke Frauen brauchen einen starken\, geschmeidigen Körper. Einen Körper\, der trägt\, der fühlt\, der sich bewegt  – frei\, klar und verbunden. \nDieser Raum ist für Frauen\, die \n\nihre Kraft verkörpern wollen\nBeweglichkeit & Stabilität vereinen möchten\nLust und Tiefe UND Lebendigkeit haben.\n\nKosten: 60\,-/Monat (Max 8 Frauen) \nAnmeldung: Claudia Setschnagg | 06641236464 \nmehr erfahren
URL:https://www.hausderelemente.at/event/quantum-embodyment-tanz-chakren-faszien/2026-04-21/
LOCATION:Haus der Elemente
CATEGORIES:Kurse
END:VEVENT
END:VCALENDAR