BEGIN:VCALENDAR
VERSION:2.0
PRODID:-//Haus der Elemente - ECPv6.15.17.1//NONSGML v1.0//EN
CALSCALE:GREGORIAN
METHOD:PUBLISH
X-WR-CALNAME:Haus der Elemente
X-ORIGINAL-URL:https://www.hausderelemente.at
X-WR-CALDESC:Veranstaltungen für Haus der Elemente
REFRESH-INTERVAL;VALUE=DURATION:PT1H
X-Robots-Tag:noindex
X-PUBLISHED-TTL:PT1H
BEGIN:VTIMEZONE
TZID:Europe/Helsinki
BEGIN:DAYLIGHT
TZOFFSETFROM:+0200
TZOFFSETTO:+0300
TZNAME:EEST
DTSTART:20250330T010000
END:DAYLIGHT
BEGIN:STANDARD
TZOFFSETFROM:+0300
TZOFFSETTO:+0200
TZNAME:EET
DTSTART:20251026T010000
END:STANDARD
BEGIN:DAYLIGHT
TZOFFSETFROM:+0200
TZOFFSETTO:+0300
TZNAME:EEST
DTSTART:20260329T010000
END:DAYLIGHT
BEGIN:STANDARD
TZOFFSETFROM:+0300
TZOFFSETTO:+0200
TZNAME:EET
DTSTART:20261025T010000
END:STANDARD
BEGIN:DAYLIGHT
TZOFFSETFROM:+0200
TZOFFSETTO:+0300
TZNAME:EEST
DTSTART:20270328T010000
END:DAYLIGHT
BEGIN:STANDARD
TZOFFSETFROM:+0300
TZOFFSETTO:+0200
TZNAME:EET
DTSTART:20271031T010000
END:STANDARD
END:VTIMEZONE
BEGIN:VEVENT
DTSTART;TZID=Europe/Helsinki:20260618T180000
DTEND;TZID=Europe/Helsinki:20260618T180000
DTSTAMP:20260420T014445
CREATED:20260109T092402Z
LAST-MODIFIED:20260115T095505Z
UID:10001710-1781805600-1781805600@www.hausderelemente.at
SUMMARY:Shiatsu Schnupper-Abend
DESCRIPTION:Dieser Abend ist eine gute Gelegenheit\, sich über Shiatsu im Allgemeinen und unsere Schule im Speziellen zu informieren. In kleinen Übungseinheiten und Gesprächsrunden erfährst Du alles über uns und unsere Arbeitsweise. Bitte lockere Kleidung und eventuell ein kleines Tuch mitbringen. Wir bitten um eine zeitgerechte Voranmeldung. \nkostenlos-informativ \nhier anmelden
URL:https://www.hausderelemente.at/event/shiatsu-schnupper-abend/2026-06-18/
LOCATION:Haus der Elemente
CATEGORIES:Veranstaltungen
END:VEVENT
BEGIN:VEVENT
DTSTART;TZID=Europe/Helsinki:20260917T183000
DTEND;TZID=Europe/Helsinki:20260917T210000
DTSTAMP:20260420T014445
CREATED:20260109T092402Z
LAST-MODIFIED:20260115T095505Z
UID:10001711-1789669800-1789678800@www.hausderelemente.at
SUMMARY:Shiatsu Schnupper-Abend
DESCRIPTION:Dieser Abend ist eine gute Gelegenheit\, sich über Shiatsu im Allgemeinen und unsere Schule im Speziellen zu informieren. In kleinen Übungseinheiten und Gesprächsrunden erfährst Du alles über uns und unsere Arbeitsweise. Bitte lockere Kleidung und eventuell ein kleines Tuch mitbringen. Wir bitten um eine zeitgerechte Voranmeldung. \nkostenlos-informativ \nhier anmelden
URL:https://www.hausderelemente.at/event/shiatsu-schnupper-abend/2026-09-17/
LOCATION:Haus der Elemente
CATEGORIES:Veranstaltungen
END:VEVENT
BEGIN:VEVENT
DTSTART;TZID=Europe/Helsinki:20261008T183000
DTEND;TZID=Europe/Helsinki:20261008T210000
DTSTAMP:20260420T014445
CREATED:20260109T092402Z
LAST-MODIFIED:20260115T095505Z
UID:10001712-1791484200-1791493200@www.hausderelemente.at
SUMMARY:Shiatsu Schnupper-Abend
DESCRIPTION:Dieser Abend ist eine gute Gelegenheit\, sich über Shiatsu im Allgemeinen und unsere Schule im Speziellen zu informieren. In kleinen Übungseinheiten und Gesprächsrunden erfährst Du alles über uns und unsere Arbeitsweise. Bitte lockere Kleidung und eventuell ein kleines Tuch mitbringen. Wir bitten um eine zeitgerechte Voranmeldung. \nkostenlos-informativ \nhier anmelden
URL:https://www.hausderelemente.at/event/shiatsu-schnupper-abend/2026-10-08/
LOCATION:Haus der Elemente
CATEGORIES:Veranstaltungen
END:VEVENT
END:VCALENDAR