BEGIN:VCALENDAR
VERSION:2.0
PRODID:-//Haus der Elemente - ECPv6.15.17.1//NONSGML v1.0//EN
CALSCALE:GREGORIAN
METHOD:PUBLISH
X-WR-CALNAME:Haus der Elemente
X-ORIGINAL-URL:https://www.hausderelemente.at
X-WR-CALDESC:Veranstaltungen für Haus der Elemente
REFRESH-INTERVAL;VALUE=DURATION:PT1H
X-Robots-Tag:noindex
X-PUBLISHED-TTL:PT1H
BEGIN:VTIMEZONE
TZID:Europe/Helsinki
BEGIN:DAYLIGHT
TZOFFSETFROM:+0200
TZOFFSETTO:+0300
TZNAME:EEST
DTSTART:20250330T010000
END:DAYLIGHT
BEGIN:STANDARD
TZOFFSETFROM:+0300
TZOFFSETTO:+0200
TZNAME:EET
DTSTART:20251026T010000
END:STANDARD
BEGIN:DAYLIGHT
TZOFFSETFROM:+0200
TZOFFSETTO:+0300
TZNAME:EEST
DTSTART:20260329T010000
END:DAYLIGHT
BEGIN:STANDARD
TZOFFSETFROM:+0300
TZOFFSETTO:+0200
TZNAME:EET
DTSTART:20261025T010000
END:STANDARD
BEGIN:DAYLIGHT
TZOFFSETFROM:+0200
TZOFFSETTO:+0300
TZNAME:EEST
DTSTART:20270328T010000
END:DAYLIGHT
BEGIN:STANDARD
TZOFFSETFROM:+0300
TZOFFSETTO:+0200
TZNAME:EET
DTSTART:20271031T010000
END:STANDARD
END:VTIMEZONE
BEGIN:VEVENT
DTSTART;TZID=Europe/Helsinki:20261001T090000
DTEND;TZID=Europe/Helsinki:20261004T170000
DTSTAMP:20260421T185059
CREATED:20251212T081719Z
LAST-MODIFIED:20260220T104109Z
UID:10001657-1790845200-1791133200@www.hausderelemente.at
SUMMARY:Shiatsu und Osteopathie Modul I
DESCRIPTION:Dieser Kurs schlägt eine sanfte Brücke zwischen zwei ganzheitlichen Behandlungssystemen – Shiatsu und Osteopathie – und öffnet einen Raum\, in dem sich Berührung\, Wahrnehmung und anatomisches Wissen harmonisch verbinden. Ziel dieses Kurses ist es\, dir einen fundierten ersten Einblick in die Welt der Osteopathie zu geben\, dich in ihre Grundprinzipien einzuführen und zu zeigen\, wie sich diese achtsam in die Shiatsu-Praxis einweben lassen \nmehr erfahren \nKosten: 490€\, 32 Einheiten \nhier anmelden
URL:https://www.hausderelemente.at/event/shiatsu-und-osteopathie-modul-i/
LOCATION:Haus der Elemente
CATEGORIES:Veranstaltungen
END:VEVENT
END:VCALENDAR