BEGIN:VCALENDAR
VERSION:2.0
PRODID:-//Haus der Elemente - ECPv6.15.17.1//NONSGML v1.0//EN
CALSCALE:GREGORIAN
METHOD:PUBLISH
X-WR-CALNAME:Haus der Elemente
X-ORIGINAL-URL:https://www.hausderelemente.at
X-WR-CALDESC:Veranstaltungen für Haus der Elemente
REFRESH-INTERVAL;VALUE=DURATION:PT1H
X-Robots-Tag:noindex
X-PUBLISHED-TTL:PT1H
BEGIN:VTIMEZONE
TZID:Europe/Helsinki
BEGIN:DAYLIGHT
TZOFFSETFROM:+0200
TZOFFSETTO:+0300
TZNAME:EEST
DTSTART:20250330T010000
END:DAYLIGHT
BEGIN:STANDARD
TZOFFSETFROM:+0300
TZOFFSETTO:+0200
TZNAME:EET
DTSTART:20251026T010000
END:STANDARD
BEGIN:DAYLIGHT
TZOFFSETFROM:+0200
TZOFFSETTO:+0300
TZNAME:EEST
DTSTART:20260329T010000
END:DAYLIGHT
BEGIN:STANDARD
TZOFFSETFROM:+0300
TZOFFSETTO:+0200
TZNAME:EET
DTSTART:20261025T010000
END:STANDARD
BEGIN:DAYLIGHT
TZOFFSETFROM:+0200
TZOFFSETTO:+0300
TZNAME:EEST
DTSTART:20270328T010000
END:DAYLIGHT
BEGIN:STANDARD
TZOFFSETFROM:+0300
TZOFFSETTO:+0200
TZNAME:EET
DTSTART:20271031T010000
END:STANDARD
END:VTIMEZONE
BEGIN:VEVENT
DTSTART;TZID=Europe/Helsinki:20260423T090000
DTEND;TZID=Europe/Helsinki:20260423T100000
DTSTAMP:20260421T145836
CREATED:20251212T080720Z
LAST-MODIFIED:20251212T081825Z
UID:10001672-1776934800-1776938400@www.hausderelemente.at
SUMMARY:Qigong am Morgen
DESCRIPTION:Qigong… \nQi…Die Energie \nGong…Die Arbeit \nWenn man nur weiß wie\, kann man an seiner Energie arbeiten…mehr Energie…mehr Wohlbefinden \nhier anmelden
URL:https://www.hausderelemente.at/event/qigong-am-morgen-3/2026-04-23/
LOCATION:Haus der Elemente
CATEGORIES:Kurse
END:VEVENT
BEGIN:VEVENT
DTSTART;TZID=Europe/Helsinki:20260430T090000
DTEND;TZID=Europe/Helsinki:20260430T100000
DTSTAMP:20260421T145836
CREATED:20251212T080720Z
LAST-MODIFIED:20251212T081825Z
UID:10001673-1777539600-1777543200@www.hausderelemente.at
SUMMARY:Qigong am Morgen
DESCRIPTION:Qigong… \nQi…Die Energie \nGong…Die Arbeit \nWenn man nur weiß wie\, kann man an seiner Energie arbeiten…mehr Energie…mehr Wohlbefinden \nhier anmelden
URL:https://www.hausderelemente.at/event/qigong-am-morgen-3/2026-04-30/
LOCATION:Haus der Elemente
CATEGORIES:Kurse
END:VEVENT
BEGIN:VEVENT
DTSTART;TZID=Europe/Helsinki:20260507T090000
DTEND;TZID=Europe/Helsinki:20260507T100000
DTSTAMP:20260421T145836
CREATED:20251212T080720Z
LAST-MODIFIED:20251212T081825Z
UID:10001674-1778144400-1778148000@www.hausderelemente.at
SUMMARY:Qigong am Morgen
DESCRIPTION:Qigong… \nQi…Die Energie \nGong…Die Arbeit \nWenn man nur weiß wie\, kann man an seiner Energie arbeiten…mehr Energie…mehr Wohlbefinden \nhier anmelden
URL:https://www.hausderelemente.at/event/qigong-am-morgen-3/2026-05-07/
LOCATION:Haus der Elemente
CATEGORIES:Kurse
END:VEVENT
BEGIN:VEVENT
DTSTART;TZID=Europe/Helsinki:20260514T090000
DTEND;TZID=Europe/Helsinki:20260514T100000
DTSTAMP:20260421T145836
CREATED:20251212T080720Z
LAST-MODIFIED:20251212T081825Z
UID:10001675-1778749200-1778752800@www.hausderelemente.at
SUMMARY:Qigong am Morgen
DESCRIPTION:Qigong… \nQi…Die Energie \nGong…Die Arbeit \nWenn man nur weiß wie\, kann man an seiner Energie arbeiten…mehr Energie…mehr Wohlbefinden \nhier anmelden
URL:https://www.hausderelemente.at/event/qigong-am-morgen-3/2026-05-14/
LOCATION:Haus der Elemente
CATEGORIES:Kurse
END:VEVENT
BEGIN:VEVENT
DTSTART;TZID=Europe/Helsinki:20260521T090000
DTEND;TZID=Europe/Helsinki:20260521T100000
DTSTAMP:20260421T145836
CREATED:20251212T080720Z
LAST-MODIFIED:20251212T081825Z
UID:10001676-1779354000-1779357600@www.hausderelemente.at
SUMMARY:Qigong am Morgen
DESCRIPTION:Qigong… \nQi…Die Energie \nGong…Die Arbeit \nWenn man nur weiß wie\, kann man an seiner Energie arbeiten…mehr Energie…mehr Wohlbefinden \nhier anmelden
URL:https://www.hausderelemente.at/event/qigong-am-morgen-3/2026-05-21/
LOCATION:Haus der Elemente
CATEGORIES:Kurse
END:VEVENT
BEGIN:VEVENT
DTSTART;TZID=Europe/Helsinki:20260528T090000
DTEND;TZID=Europe/Helsinki:20260528T100000
DTSTAMP:20260421T145836
CREATED:20251212T080720Z
LAST-MODIFIED:20251212T081825Z
UID:10001677-1779958800-1779962400@www.hausderelemente.at
SUMMARY:Qigong am Morgen
DESCRIPTION:Qigong… \nQi…Die Energie \nGong…Die Arbeit \nWenn man nur weiß wie\, kann man an seiner Energie arbeiten…mehr Energie…mehr Wohlbefinden \nhier anmelden
URL:https://www.hausderelemente.at/event/qigong-am-morgen-3/2026-05-28/
LOCATION:Haus der Elemente
CATEGORIES:Kurse
END:VEVENT
BEGIN:VEVENT
DTSTART;TZID=Europe/Helsinki:20260604T090000
DTEND;TZID=Europe/Helsinki:20260604T100000
DTSTAMP:20260421T145836
CREATED:20251212T080720Z
LAST-MODIFIED:20251212T081825Z
UID:10001678-1780563600-1780567200@www.hausderelemente.at
SUMMARY:Qigong am Morgen
DESCRIPTION:Qigong… \nQi…Die Energie \nGong…Die Arbeit \nWenn man nur weiß wie\, kann man an seiner Energie arbeiten…mehr Energie…mehr Wohlbefinden \nhier anmelden
URL:https://www.hausderelemente.at/event/qigong-am-morgen-3/2026-06-04/
LOCATION:Haus der Elemente
CATEGORIES:Kurse
END:VEVENT
BEGIN:VEVENT
DTSTART;TZID=Europe/Helsinki:20260611T090000
DTEND;TZID=Europe/Helsinki:20260611T100000
DTSTAMP:20260421T145836
CREATED:20251212T080720Z
LAST-MODIFIED:20251212T081825Z
UID:10001679-1781168400-1781172000@www.hausderelemente.at
SUMMARY:Qigong am Morgen
DESCRIPTION:Qigong… \nQi…Die Energie \nGong…Die Arbeit \nWenn man nur weiß wie\, kann man an seiner Energie arbeiten…mehr Energie…mehr Wohlbefinden \nhier anmelden
URL:https://www.hausderelemente.at/event/qigong-am-morgen-3/2026-06-11/
LOCATION:Haus der Elemente
CATEGORIES:Kurse
END:VEVENT
BEGIN:VEVENT
DTSTART;TZID=Europe/Helsinki:20260618T090000
DTEND;TZID=Europe/Helsinki:20260618T100000
DTSTAMP:20260421T145836
CREATED:20251212T080720Z
LAST-MODIFIED:20251212T081825Z
UID:10001680-1781773200-1781776800@www.hausderelemente.at
SUMMARY:Qigong am Morgen
DESCRIPTION:Qigong… \nQi…Die Energie \nGong…Die Arbeit \nWenn man nur weiß wie\, kann man an seiner Energie arbeiten…mehr Energie…mehr Wohlbefinden \nhier anmelden
URL:https://www.hausderelemente.at/event/qigong-am-morgen-3/2026-06-18/
LOCATION:Haus der Elemente
CATEGORIES:Kurse
END:VEVENT
BEGIN:VEVENT
DTSTART;TZID=Europe/Helsinki:20260625T090000
DTEND;TZID=Europe/Helsinki:20260625T100000
DTSTAMP:20260421T145836
CREATED:20251212T080720Z
LAST-MODIFIED:20251212T081825Z
UID:10001681-1782378000-1782381600@www.hausderelemente.at
SUMMARY:Qigong am Morgen
DESCRIPTION:Qigong… \nQi…Die Energie \nGong…Die Arbeit \nWenn man nur weiß wie\, kann man an seiner Energie arbeiten…mehr Energie…mehr Wohlbefinden \nhier anmelden
URL:https://www.hausderelemente.at/event/qigong-am-morgen-3/2026-06-25/
LOCATION:Haus der Elemente
CATEGORIES:Kurse
END:VEVENT
BEGIN:VEVENT
DTSTART;TZID=Europe/Helsinki:20260702T090000
DTEND;TZID=Europe/Helsinki:20260702T100000
DTSTAMP:20260421T145836
CREATED:20251212T080720Z
LAST-MODIFIED:20251212T081825Z
UID:10001682-1782982800-1782986400@www.hausderelemente.at
SUMMARY:Qigong am Morgen
DESCRIPTION:Qigong… \nQi…Die Energie \nGong…Die Arbeit \nWenn man nur weiß wie\, kann man an seiner Energie arbeiten…mehr Energie…mehr Wohlbefinden \nhier anmelden
URL:https://www.hausderelemente.at/event/qigong-am-morgen-3/2026-07-02/
LOCATION:Haus der Elemente
CATEGORIES:Kurse
END:VEVENT
BEGIN:VEVENT
DTSTART;TZID=Europe/Helsinki:20260709T090000
DTEND;TZID=Europe/Helsinki:20260709T100000
DTSTAMP:20260421T145836
CREATED:20251212T080720Z
LAST-MODIFIED:20251212T081825Z
UID:10001683-1783587600-1783591200@www.hausderelemente.at
SUMMARY:Qigong am Morgen
DESCRIPTION:Qigong… \nQi…Die Energie \nGong…Die Arbeit \nWenn man nur weiß wie\, kann man an seiner Energie arbeiten…mehr Energie…mehr Wohlbefinden \nhier anmelden
URL:https://www.hausderelemente.at/event/qigong-am-morgen-3/2026-07-09/
LOCATION:Haus der Elemente
CATEGORIES:Kurse
END:VEVENT
BEGIN:VEVENT
DTSTART;TZID=Europe/Helsinki:20260716T090000
DTEND;TZID=Europe/Helsinki:20260716T100000
DTSTAMP:20260421T145836
CREATED:20251212T080720Z
LAST-MODIFIED:20251212T081825Z
UID:10001684-1784192400-1784196000@www.hausderelemente.at
SUMMARY:Qigong am Morgen
DESCRIPTION:Qigong… \nQi…Die Energie \nGong…Die Arbeit \nWenn man nur weiß wie\, kann man an seiner Energie arbeiten…mehr Energie…mehr Wohlbefinden \nhier anmelden
URL:https://www.hausderelemente.at/event/qigong-am-morgen-3/2026-07-16/
LOCATION:Haus der Elemente
CATEGORIES:Kurse
END:VEVENT
BEGIN:VEVENT
DTSTART;TZID=Europe/Helsinki:20260723T090000
DTEND;TZID=Europe/Helsinki:20260723T100000
DTSTAMP:20260421T145836
CREATED:20251212T080720Z
LAST-MODIFIED:20251212T081825Z
UID:10001685-1784797200-1784800800@www.hausderelemente.at
SUMMARY:Qigong am Morgen
DESCRIPTION:Qigong… \nQi…Die Energie \nGong…Die Arbeit \nWenn man nur weiß wie\, kann man an seiner Energie arbeiten…mehr Energie…mehr Wohlbefinden \nhier anmelden
URL:https://www.hausderelemente.at/event/qigong-am-morgen-3/2026-07-23/
LOCATION:Haus der Elemente
CATEGORIES:Kurse
END:VEVENT
BEGIN:VEVENT
DTSTART;TZID=Europe/Helsinki:20260730T090000
DTEND;TZID=Europe/Helsinki:20260730T100000
DTSTAMP:20260421T145836
CREATED:20251212T080720Z
LAST-MODIFIED:20251212T081825Z
UID:10001686-1785402000-1785405600@www.hausderelemente.at
SUMMARY:Qigong am Morgen
DESCRIPTION:Qigong… \nQi…Die Energie \nGong…Die Arbeit \nWenn man nur weiß wie\, kann man an seiner Energie arbeiten…mehr Energie…mehr Wohlbefinden \nhier anmelden
URL:https://www.hausderelemente.at/event/qigong-am-morgen-3/2026-07-30/
LOCATION:Haus der Elemente
CATEGORIES:Kurse
END:VEVENT
BEGIN:VEVENT
DTSTART;TZID=Europe/Helsinki:20260806T090000
DTEND;TZID=Europe/Helsinki:20260806T100000
DTSTAMP:20260421T145836
CREATED:20251212T080720Z
LAST-MODIFIED:20251212T081825Z
UID:10001687-1786006800-1786010400@www.hausderelemente.at
SUMMARY:Qigong am Morgen
DESCRIPTION:Qigong… \nQi…Die Energie \nGong…Die Arbeit \nWenn man nur weiß wie\, kann man an seiner Energie arbeiten…mehr Energie…mehr Wohlbefinden \nhier anmelden
URL:https://www.hausderelemente.at/event/qigong-am-morgen-3/2026-08-06/
LOCATION:Haus der Elemente
CATEGORIES:Kurse
END:VEVENT
BEGIN:VEVENT
DTSTART;TZID=Europe/Helsinki:20260813T090000
DTEND;TZID=Europe/Helsinki:20260813T100000
DTSTAMP:20260421T145836
CREATED:20251212T080720Z
LAST-MODIFIED:20251212T081825Z
UID:10001688-1786611600-1786615200@www.hausderelemente.at
SUMMARY:Qigong am Morgen
DESCRIPTION:Qigong… \nQi…Die Energie \nGong…Die Arbeit \nWenn man nur weiß wie\, kann man an seiner Energie arbeiten…mehr Energie…mehr Wohlbefinden \nhier anmelden
URL:https://www.hausderelemente.at/event/qigong-am-morgen-3/2026-08-13/
LOCATION:Haus der Elemente
CATEGORIES:Kurse
END:VEVENT
BEGIN:VEVENT
DTSTART;TZID=Europe/Helsinki:20260820T090000
DTEND;TZID=Europe/Helsinki:20260820T100000
DTSTAMP:20260421T145836
CREATED:20251212T080720Z
LAST-MODIFIED:20251212T081825Z
UID:10001689-1787216400-1787220000@www.hausderelemente.at
SUMMARY:Qigong am Morgen
DESCRIPTION:Qigong… \nQi…Die Energie \nGong…Die Arbeit \nWenn man nur weiß wie\, kann man an seiner Energie arbeiten…mehr Energie…mehr Wohlbefinden \nhier anmelden
URL:https://www.hausderelemente.at/event/qigong-am-morgen-3/2026-08-20/
LOCATION:Haus der Elemente
CATEGORIES:Kurse
END:VEVENT
BEGIN:VEVENT
DTSTART;TZID=Europe/Helsinki:20260827T090000
DTEND;TZID=Europe/Helsinki:20260827T100000
DTSTAMP:20260421T145836
CREATED:20251212T080720Z
LAST-MODIFIED:20251212T081825Z
UID:10001690-1787821200-1787824800@www.hausderelemente.at
SUMMARY:Qigong am Morgen
DESCRIPTION:Qigong… \nQi…Die Energie \nGong…Die Arbeit \nWenn man nur weiß wie\, kann man an seiner Energie arbeiten…mehr Energie…mehr Wohlbefinden \nhier anmelden
URL:https://www.hausderelemente.at/event/qigong-am-morgen-3/2026-08-27/
LOCATION:Haus der Elemente
CATEGORIES:Kurse
END:VEVENT
BEGIN:VEVENT
DTSTART;TZID=Europe/Helsinki:20260903T090000
DTEND;TZID=Europe/Helsinki:20260903T100000
DTSTAMP:20260421T145836
CREATED:20251212T080720Z
LAST-MODIFIED:20251212T081825Z
UID:10001691-1788426000-1788429600@www.hausderelemente.at
SUMMARY:Qigong am Morgen
DESCRIPTION:Qigong… \nQi…Die Energie \nGong…Die Arbeit \nWenn man nur weiß wie\, kann man an seiner Energie arbeiten…mehr Energie…mehr Wohlbefinden \nhier anmelden
URL:https://www.hausderelemente.at/event/qigong-am-morgen-3/2026-09-03/
LOCATION:Haus der Elemente
CATEGORIES:Kurse
END:VEVENT
BEGIN:VEVENT
DTSTART;TZID=Europe/Helsinki:20260910T090000
DTEND;TZID=Europe/Helsinki:20260910T100000
DTSTAMP:20260421T145836
CREATED:20251212T080720Z
LAST-MODIFIED:20251212T081825Z
UID:10001692-1789030800-1789034400@www.hausderelemente.at
SUMMARY:Qigong am Morgen
DESCRIPTION:Qigong… \nQi…Die Energie \nGong…Die Arbeit \nWenn man nur weiß wie\, kann man an seiner Energie arbeiten…mehr Energie…mehr Wohlbefinden \nhier anmelden
URL:https://www.hausderelemente.at/event/qigong-am-morgen-3/2026-09-10/
LOCATION:Haus der Elemente
CATEGORIES:Kurse
END:VEVENT
BEGIN:VEVENT
DTSTART;TZID=Europe/Helsinki:20260917T090000
DTEND;TZID=Europe/Helsinki:20260917T100000
DTSTAMP:20260421T145836
CREATED:20251212T080720Z
LAST-MODIFIED:20251212T081825Z
UID:10001693-1789635600-1789639200@www.hausderelemente.at
SUMMARY:Qigong am Morgen
DESCRIPTION:Qigong… \nQi…Die Energie \nGong…Die Arbeit \nWenn man nur weiß wie\, kann man an seiner Energie arbeiten…mehr Energie…mehr Wohlbefinden \nhier anmelden
URL:https://www.hausderelemente.at/event/qigong-am-morgen-3/2026-09-17/
LOCATION:Haus der Elemente
CATEGORIES:Kurse
END:VEVENT
BEGIN:VEVENT
DTSTART;TZID=Europe/Helsinki:20260924T090000
DTEND;TZID=Europe/Helsinki:20260924T100000
DTSTAMP:20260421T145836
CREATED:20251212T080720Z
LAST-MODIFIED:20251212T081825Z
UID:10001694-1790240400-1790244000@www.hausderelemente.at
SUMMARY:Qigong am Morgen
DESCRIPTION:Qigong… \nQi…Die Energie \nGong…Die Arbeit \nWenn man nur weiß wie\, kann man an seiner Energie arbeiten…mehr Energie…mehr Wohlbefinden \nhier anmelden
URL:https://www.hausderelemente.at/event/qigong-am-morgen-3/2026-09-24/
LOCATION:Haus der Elemente
CATEGORIES:Kurse
END:VEVENT
BEGIN:VEVENT
DTSTART;TZID=Europe/Helsinki:20261001T090000
DTEND;TZID=Europe/Helsinki:20261001T100000
DTSTAMP:20260421T145836
CREATED:20251212T080720Z
LAST-MODIFIED:20251212T081825Z
UID:10001695-1790845200-1790848800@www.hausderelemente.at
SUMMARY:Qigong am Morgen
DESCRIPTION:Qigong… \nQi…Die Energie \nGong…Die Arbeit \nWenn man nur weiß wie\, kann man an seiner Energie arbeiten…mehr Energie…mehr Wohlbefinden \nhier anmelden
URL:https://www.hausderelemente.at/event/qigong-am-morgen-3/2026-10-01/
LOCATION:Haus der Elemente
CATEGORIES:Kurse
END:VEVENT
BEGIN:VEVENT
DTSTART;TZID=Europe/Helsinki:20261008T090000
DTEND;TZID=Europe/Helsinki:20261008T100000
DTSTAMP:20260421T145836
CREATED:20251212T080720Z
LAST-MODIFIED:20251212T081825Z
UID:10001696-1791450000-1791453600@www.hausderelemente.at
SUMMARY:Qigong am Morgen
DESCRIPTION:Qigong… \nQi…Die Energie \nGong…Die Arbeit \nWenn man nur weiß wie\, kann man an seiner Energie arbeiten…mehr Energie…mehr Wohlbefinden \nhier anmelden
URL:https://www.hausderelemente.at/event/qigong-am-morgen-3/2026-10-08/
LOCATION:Haus der Elemente
CATEGORIES:Kurse
END:VEVENT
BEGIN:VEVENT
DTSTART;TZID=Europe/Helsinki:20261015T090000
DTEND;TZID=Europe/Helsinki:20261015T100000
DTSTAMP:20260421T145836
CREATED:20251212T080720Z
LAST-MODIFIED:20251212T081825Z
UID:10001697-1792054800-1792058400@www.hausderelemente.at
SUMMARY:Qigong am Morgen
DESCRIPTION:Qigong… \nQi…Die Energie \nGong…Die Arbeit \nWenn man nur weiß wie\, kann man an seiner Energie arbeiten…mehr Energie…mehr Wohlbefinden \nhier anmelden
URL:https://www.hausderelemente.at/event/qigong-am-morgen-3/2026-10-15/
LOCATION:Haus der Elemente
CATEGORIES:Kurse
END:VEVENT
BEGIN:VEVENT
DTSTART;TZID=Europe/Helsinki:20261022T090000
DTEND;TZID=Europe/Helsinki:20261022T100000
DTSTAMP:20260421T145836
CREATED:20251212T080720Z
LAST-MODIFIED:20251212T081825Z
UID:10001698-1792659600-1792663200@www.hausderelemente.at
SUMMARY:Qigong am Morgen
DESCRIPTION:Qigong… \nQi…Die Energie \nGong…Die Arbeit \nWenn man nur weiß wie\, kann man an seiner Energie arbeiten…mehr Energie…mehr Wohlbefinden \nhier anmelden
URL:https://www.hausderelemente.at/event/qigong-am-morgen-3/2026-10-22/
LOCATION:Haus der Elemente
CATEGORIES:Kurse
END:VEVENT
BEGIN:VEVENT
DTSTART;TZID=Europe/Helsinki:20261029T090000
DTEND;TZID=Europe/Helsinki:20261029T100000
DTSTAMP:20260421T145836
CREATED:20251212T080720Z
LAST-MODIFIED:20251212T081825Z
UID:10001699-1793264400-1793268000@www.hausderelemente.at
SUMMARY:Qigong am Morgen
DESCRIPTION:Qigong… \nQi…Die Energie \nGong…Die Arbeit \nWenn man nur weiß wie\, kann man an seiner Energie arbeiten…mehr Energie…mehr Wohlbefinden \nhier anmelden
URL:https://www.hausderelemente.at/event/qigong-am-morgen-3/2026-10-29/
LOCATION:Haus der Elemente
CATEGORIES:Kurse
END:VEVENT
BEGIN:VEVENT
DTSTART;TZID=Europe/Helsinki:20261105T090000
DTEND;TZID=Europe/Helsinki:20261105T100000
DTSTAMP:20260421T145836
CREATED:20251212T080720Z
LAST-MODIFIED:20251212T081825Z
UID:10001700-1793869200-1793872800@www.hausderelemente.at
SUMMARY:Qigong am Morgen
DESCRIPTION:Qigong… \nQi…Die Energie \nGong…Die Arbeit \nWenn man nur weiß wie\, kann man an seiner Energie arbeiten…mehr Energie…mehr Wohlbefinden \nhier anmelden
URL:https://www.hausderelemente.at/event/qigong-am-morgen-3/2026-11-05/
LOCATION:Haus der Elemente
CATEGORIES:Kurse
END:VEVENT
BEGIN:VEVENT
DTSTART;TZID=Europe/Helsinki:20261112T090000
DTEND;TZID=Europe/Helsinki:20261112T100000
DTSTAMP:20260421T145836
CREATED:20251212T080720Z
LAST-MODIFIED:20251212T081825Z
UID:10001701-1794474000-1794477600@www.hausderelemente.at
SUMMARY:Qigong am Morgen
DESCRIPTION:Qigong… \nQi…Die Energie \nGong…Die Arbeit \nWenn man nur weiß wie\, kann man an seiner Energie arbeiten…mehr Energie…mehr Wohlbefinden \nhier anmelden
URL:https://www.hausderelemente.at/event/qigong-am-morgen-3/2026-11-12/
LOCATION:Haus der Elemente
CATEGORIES:Kurse
END:VEVENT
END:VCALENDAR